BEGIN:VCALENDAR
VERSION:2.0
PRODID:-//The Parkinson Council - ECPv6.15.20//NONSGML v1.0//EN
CALSCALE:GREGORIAN
METHOD:PUBLISH
X-ORIGINAL-URL:https://theparkinsoncouncil.org
X-WR-CALDESC:Events for The Parkinson Council
REFRESH-INTERVAL;VALUE=DURATION:PT1H
X-Robots-Tag:noindex
X-PUBLISHED-TTL:PT1H
BEGIN:VTIMEZONE
TZID:America/New_York
BEGIN:DAYLIGHT
TZOFFSETFROM:-0500
TZOFFSETTO:-0400
TZNAME:EDT
DTSTART:20220313T070000
END:DAYLIGHT
BEGIN:STANDARD
TZOFFSETFROM:-0400
TZOFFSETTO:-0500
TZNAME:EST
DTSTART:20221106T060000
END:STANDARD
BEGIN:DAYLIGHT
TZOFFSETFROM:-0500
TZOFFSETTO:-0400
TZNAME:EDT
DTSTART:20230312T070000
END:DAYLIGHT
BEGIN:STANDARD
TZOFFSETFROM:-0400
TZOFFSETTO:-0500
TZNAME:EST
DTSTART:20231105T060000
END:STANDARD
BEGIN:DAYLIGHT
TZOFFSETFROM:-0500
TZOFFSETTO:-0400
TZNAME:EDT
DTSTART:20240310T070000
END:DAYLIGHT
BEGIN:STANDARD
TZOFFSETFROM:-0400
TZOFFSETTO:-0500
TZNAME:EST
DTSTART:20241103T060000
END:STANDARD
END:VTIMEZONE
BEGIN:VEVENT
DTSTART;TZID=America/New_York:20231213T120000
DTEND;TZID=America/New_York:20231213T130000
DTSTAMP:20260422T113632
CREATED:20230331T184544Z
LAST-MODIFIED:20240116T182440Z
UID:9246-1702468800-1702472400@theparkinsoncouncil.org
SUMMARY:Share our Knowledge with Virginia Man-Yee Lee\, PhD
DESCRIPTION:
URL:https://theparkinsoncouncil.org/event/share-our-knowledge-with-virginia-man-yee-lee-phd/
LOCATION:Virtual
CATEGORIES:Special Event
END:VEVENT
END:VCALENDAR