BEGIN:VCALENDAR
VERSION:2.0
PRODID:-//The Parkinson Council - ECPv6.15.20//NONSGML v1.0//EN
CALSCALE:GREGORIAN
METHOD:PUBLISH
X-WR-CALNAME:The Parkinson Council
X-ORIGINAL-URL:https://theparkinsoncouncil.org
X-WR-CALDESC:Events for The Parkinson Council
REFRESH-INTERVAL;VALUE=DURATION:PT1H
X-Robots-Tag:noindex
X-PUBLISHED-TTL:PT1H
BEGIN:VTIMEZONE
TZID:America/New_York
BEGIN:DAYLIGHT
TZOFFSETFROM:-0500
TZOFFSETTO:-0400
TZNAME:EDT
DTSTART:20220313T070000
END:DAYLIGHT
BEGIN:STANDARD
TZOFFSETFROM:-0400
TZOFFSETTO:-0500
TZNAME:EST
DTSTART:20221106T060000
END:STANDARD
BEGIN:DAYLIGHT
TZOFFSETFROM:-0500
TZOFFSETTO:-0400
TZNAME:EDT
DTSTART:20230312T070000
END:DAYLIGHT
BEGIN:STANDARD
TZOFFSETFROM:-0400
TZOFFSETTO:-0500
TZNAME:EST
DTSTART:20231105T060000
END:STANDARD
BEGIN:DAYLIGHT
TZOFFSETFROM:-0500
TZOFFSETTO:-0400
TZNAME:EDT
DTSTART:20240310T070000
END:DAYLIGHT
BEGIN:STANDARD
TZOFFSETFROM:-0400
TZOFFSETTO:-0500
TZNAME:EST
DTSTART:20241103T060000
END:STANDARD
END:VTIMEZONE
BEGIN:VEVENT
DTSTART;TZID=America/New_York:20231104T110000
DTEND;TZID=America/New_York:20231104T130000
DTSTAMP:20260422T150154
CREATED:20230331T184544Z
LAST-MODIFIED:20230921T233846Z
UID:7901-1699095600-1699102800@theparkinsoncouncil.org
SUMMARY:Registration Open for 2023 Walk to Stamp Out Parkinson's at the Philadelphia Navy Yard!
DESCRIPTION:Join us on Saturday\, November 4th\, at the historic PhiladelphiaNavy Yard for our Walk to Stamp Out Parkinson’s\, a cherished community-focused\, family-friendly event for over two decades!\n\nA Walk to Stamp Out Parkinson’s is the largest event in the Philadelphia region dedicated to raising awareness and funds for our Parkinson’s community. Local dollars are invested in local comprehensive care\, education\, research\, outreach\, and quality-of-life programs (art\, music\, and dance) and services that local families rely on. \nThis year’s theme is “Circles of Support” because it’s so vital to have a team to help navigate a family’s Parkinson’s journey. \nWe look forward to celebrating with you! \nClick here for info on the day and how to join us! \nClick here to see where the funds are invested!
URL:https://theparkinsoncouncil.org/event/registration-open-for-2023-walk-to-stamp-out-parkinsons-at-the-philadelphia-navy-yard/
LOCATION:Philadelphia Navy Yard\, Central Green\, Rouse Blvd\, Philadelphia\, PA\, 19112\, United States
CATEGORIES:Special Event
END:VEVENT
END:VCALENDAR