BEGIN:VCALENDAR
VERSION:2.0
PRODID:-//The Parkinson Council - ECPv6.15.20//NONSGML v1.0//EN
CALSCALE:GREGORIAN
METHOD:PUBLISH
X-ORIGINAL-URL:https://theparkinsoncouncil.org
X-WR-CALDESC:Events for The Parkinson Council
REFRESH-INTERVAL;VALUE=DURATION:PT1H
X-Robots-Tag:noindex
X-PUBLISHED-TTL:PT1H
BEGIN:VTIMEZONE
TZID:America/New_York
BEGIN:DAYLIGHT
TZOFFSETFROM:-0500
TZOFFSETTO:-0400
TZNAME:EDT
DTSTART:20220313T070000
END:DAYLIGHT
BEGIN:STANDARD
TZOFFSETFROM:-0400
TZOFFSETTO:-0500
TZNAME:EST
DTSTART:20221106T060000
END:STANDARD
BEGIN:DAYLIGHT
TZOFFSETFROM:-0500
TZOFFSETTO:-0400
TZNAME:EDT
DTSTART:20230312T070000
END:DAYLIGHT
BEGIN:STANDARD
TZOFFSETFROM:-0400
TZOFFSETTO:-0500
TZNAME:EST
DTSTART:20231105T060000
END:STANDARD
BEGIN:DAYLIGHT
TZOFFSETFROM:-0500
TZOFFSETTO:-0400
TZNAME:EDT
DTSTART:20240310T070000
END:DAYLIGHT
BEGIN:STANDARD
TZOFFSETFROM:-0400
TZOFFSETTO:-0500
TZNAME:EST
DTSTART:20241103T060000
END:STANDARD
END:VTIMEZONE
BEGIN:VEVENT
DTSTART;TZID=America/New_York:20231005T083000
DTEND;TZID=America/New_York:20231005T150000
DTSTAMP:20260422T161034
CREATED:20230331T184544Z
LAST-MODIFIED:20230921T151418Z
UID:7832-1696494600-1696518000@theparkinsoncouncil.org
SUMMARY:CES 2023 Golf Outing to Benefit The Parkinson Council
DESCRIPTION:Customized Energy Solutions is hosting its 2023 Golf Outing with 100% of proceeds benefiting The Parkinson Council. \nThis event is open to all members of the community who want to support the mission of The Parkinson Council. \nA heartfelt thank you to CES for spearheading and inspiring this effort. To sign up or donate\, visit https://ces-ltd.com/golf.
URL:https://theparkinsoncouncil.org/event/ces-2023-golf-outing/
LOCATION:Spring Hollow Golf Club\, 3350 Schuylkill Road\, Spring City\, 19475\, United States
CATEGORIES:Special Event
END:VEVENT
END:VCALENDAR