BEGIN:VCALENDAR
VERSION:2.0
PRODID:-//The Parkinson Council - ECPv6.15.20//NONSGML v1.0//EN
CALSCALE:GREGORIAN
METHOD:PUBLISH
X-WR-CALNAME:The Parkinson Council
X-ORIGINAL-URL:https://theparkinsoncouncil.org
X-WR-CALDESC:Events for The Parkinson Council
REFRESH-INTERVAL;VALUE=DURATION:PT1H
X-Robots-Tag:noindex
X-PUBLISHED-TTL:PT1H
BEGIN:VTIMEZONE
TZID:America/New_York
BEGIN:DAYLIGHT
TZOFFSETFROM:-0500
TZOFFSETTO:-0400
TZNAME:EDT
DTSTART:20220313T070000
END:DAYLIGHT
BEGIN:STANDARD
TZOFFSETFROM:-0400
TZOFFSETTO:-0500
TZNAME:EST
DTSTART:20221106T060000
END:STANDARD
BEGIN:DAYLIGHT
TZOFFSETFROM:-0500
TZOFFSETTO:-0400
TZNAME:EDT
DTSTART:20230312T070000
END:DAYLIGHT
BEGIN:STANDARD
TZOFFSETFROM:-0400
TZOFFSETTO:-0500
TZNAME:EST
DTSTART:20231105T060000
END:STANDARD
BEGIN:DAYLIGHT
TZOFFSETFROM:-0500
TZOFFSETTO:-0400
TZNAME:EDT
DTSTART:20240310T070000
END:DAYLIGHT
BEGIN:STANDARD
TZOFFSETFROM:-0400
TZOFFSETTO:-0500
TZNAME:EST
DTSTART:20241103T060000
END:STANDARD
END:VTIMEZONE
BEGIN:VEVENT
DTSTART;TZID=America/New_York:20230708T083000
DTEND;TZID=America/New_York:20230708T103000
DTSTAMP:20260422T231052
CREATED:20230331T184544Z
LAST-MODIFIED:20230512T195527Z
UID:7438-1688805000-1688812200@theparkinsoncouncil.org
SUMMARY:Registration NOW OPEN for Flip Flop Walk 2023 in Avalon
DESCRIPTION:Meet us “Down the Shore!”\n \nInspired by the Storbeck Family and their journey with Parkinson’s disease\, Flip Flop Walk 2023 (FFW 2023) is scheduled for Saturday\, July 8th. \nThe Parkinson Council is proud to partner with the Storbeck Family to celebrate the 14th Annual Flip Flop Walk in Avalon (FFW2022)! Funds raised at this event help The Parkinson Council invest local dollars back into our local community for research\, comprehensive care\, movement programs\, and quality-of-life initiatives. \nFor info and to register\, scan the QR code for the registration site:
URL:https://theparkinsoncouncil.org/event/ffw2023-registration/
LOCATION:Avalon Community Center\, 3001 Avalon Ave\, Avalon\, NJ\, 08202\, United States
CATEGORIES:Special Event
ATTACH;FMTTYPE=image/jpeg:https://theparkinsoncouncil.org/wp-content/uploads/2019/06/Flip-Flop-Walk-2017-Logo-300x271.jpg
END:VEVENT
BEGIN:VEVENT
DTSTART;TZID=America/New_York:20230725T100000
DTEND;TZID=America/New_York:20230725T130000
DTSTAMP:20260422T231052
CREATED:20230331T184544Z
LAST-MODIFIED:20230519T212539Z
UID:7334-1690279200-1690290000@theparkinsoncouncil.org
SUMMARY:Registration NOW OPEN for Acing Parkinson's 2023
DESCRIPTION:Join us for 2023 Acing Parkinson’s on Tuesday\, July 25\, 2023\, at Germantown Cricket Club\, 411 Manheim Street\, Philadelphia\, PA 19144. \nFunds raised at Acing Parkinson’s benefit the mission of The Parkinson Council\, the premier local organization dedicated to improving the quality of life for people with Parkinson’s\, care partners\, and families in the Philadelphia region. \nGiveaways are provided to all players. The dress code is tennis “whites.” \nSponsorships available!
URL:https://theparkinsoncouncil.org/event/save-the-date-acing-parkinsons-2023/
LOCATION:Germantown Cricket Club\, 411 Manheim Street\, Philadelphia\, PA\, 19144\, United States
CATEGORIES:Special Event
ATTACH;FMTTYPE=image/jpeg:https://theparkinsoncouncil.org/wp-content/uploads/2023/03/AP-2023_Join-US-Final-scaled.jpg
END:VEVENT
END:VCALENDAR