BEGIN:VCALENDAR
VERSION:2.0
PRODID:-//The Parkinson Council - ECPv6.15.20//NONSGML v1.0//EN
CALSCALE:GREGORIAN
METHOD:PUBLISH
X-ORIGINAL-URL:https://theparkinsoncouncil.org
X-WR-CALDESC:Events for The Parkinson Council
REFRESH-INTERVAL;VALUE=DURATION:PT1H
X-Robots-Tag:noindex
X-PUBLISHED-TTL:PT1H
BEGIN:VTIMEZONE
TZID:America/New_York
BEGIN:DAYLIGHT
TZOFFSETFROM:-0500
TZOFFSETTO:-0400
TZNAME:EDT
DTSTART:20210314T070000
END:DAYLIGHT
BEGIN:STANDARD
TZOFFSETFROM:-0400
TZOFFSETTO:-0500
TZNAME:EST
DTSTART:20211107T060000
END:STANDARD
BEGIN:DAYLIGHT
TZOFFSETFROM:-0500
TZOFFSETTO:-0400
TZNAME:EDT
DTSTART:20220313T070000
END:DAYLIGHT
BEGIN:STANDARD
TZOFFSETFROM:-0400
TZOFFSETTO:-0500
TZNAME:EST
DTSTART:20221106T060000
END:STANDARD
BEGIN:DAYLIGHT
TZOFFSETFROM:-0500
TZOFFSETTO:-0400
TZNAME:EDT
DTSTART:20230312T070000
END:DAYLIGHT
BEGIN:STANDARD
TZOFFSETFROM:-0400
TZOFFSETTO:-0500
TZNAME:EST
DTSTART:20231105T060000
END:STANDARD
END:VTIMEZONE
BEGIN:VEVENT
DTSTART;TZID=America/New_York:20220802T100000
DTEND;TZID=America/New_York:20220802T130000
DTSTAMP:20260423T225642
CREATED:20201022T163144Z
LAST-MODIFIED:20220524T162226Z
UID:7011-1659434400-1659445200@theparkinsoncouncil.org
SUMMARY:Acing Parkinson's at Germantown Cricket Club
DESCRIPTION:Join fellow USTA-ranked tennis players at the historic Germantown Cricket Club for a day of play on grass to benefit The Parkinson Council\, a regional organization that makes investments in programs and services for people living with Parkinson’s.\n\nDay of Details: \n\nRegister as an individual (not a team)\n10 am – Start play; drill with pros on grass prior to Round Robin\n12 pm – Lunch provided (under the sycamore tree!)\n\nGiveaways provided to all players \nWhat to know: \n\nThe dress code is tennis “whites”\n\nAbout Germantown Cricket: \nThe Germantown Cricket Club is a premier tennis facility in the Philadelphia area. Recognized by the USTA with the Outstanding Facility award\, GCC is one of the World’s only clubs to offer tennis on all major surfaces. GCC has 24 Grass Courts. \n\n\n\n\n\n  \n 
URL:https://theparkinsoncouncil.org/event/acingparkinsons2022/
LOCATION:Germantown Cricket Club\, 411 Manheim Street\, Philadelphia\, PA\, 19144\, United States
CATEGORIES:Special Event
END:VEVENT
END:VCALENDAR