BEGIN:VCALENDAR
VERSION:2.0
PRODID:-//The Parkinson Council - ECPv6.15.20//NONSGML v1.0//EN
CALSCALE:GREGORIAN
METHOD:PUBLISH
X-WR-CALNAME:The Parkinson Council
X-ORIGINAL-URL:https://theparkinsoncouncil.org
X-WR-CALDESC:Events for The Parkinson Council
REFRESH-INTERVAL;VALUE=DURATION:PT1H
X-Robots-Tag:noindex
X-PUBLISHED-TTL:PT1H
BEGIN:VTIMEZONE
TZID:America/New_York
BEGIN:DAYLIGHT
TZOFFSETFROM:-0500
TZOFFSETTO:-0400
TZNAME:EDT
DTSTART:20200308T070000
END:DAYLIGHT
BEGIN:STANDARD
TZOFFSETFROM:-0400
TZOFFSETTO:-0500
TZNAME:EST
DTSTART:20201101T060000
END:STANDARD
BEGIN:DAYLIGHT
TZOFFSETFROM:-0500
TZOFFSETTO:-0400
TZNAME:EDT
DTSTART:20210314T070000
END:DAYLIGHT
BEGIN:STANDARD
TZOFFSETFROM:-0400
TZOFFSETTO:-0500
TZNAME:EST
DTSTART:20211107T060000
END:STANDARD
BEGIN:DAYLIGHT
TZOFFSETFROM:-0500
TZOFFSETTO:-0400
TZNAME:EDT
DTSTART:20220313T070000
END:DAYLIGHT
BEGIN:STANDARD
TZOFFSETFROM:-0400
TZOFFSETTO:-0500
TZNAME:EST
DTSTART:20221106T060000
END:STANDARD
END:VTIMEZONE
BEGIN:VEVENT
DTSTART;TZID=America/New_York:20211016T083000
DTEND;TZID=America/New_York:20211016T100000
DTSTAMP:20260424T140907
CREATED:20190627T192650Z
LAST-MODIFIED:20211025T195716Z
UID:6729-1634373000-1634378400@theparkinsoncouncil.org
SUMMARY:Thank you for celebrating our 2021 Walk to Stamp Out Parkinson's!
DESCRIPTION:We are truly grateful…\n\nOur October 16th Walk to Stamp Out Parkinson’s at the Philadelphia Zoo exceeded our expectations and our goal. We are humbled and honored for the love and support shown and shared at the largest community event designed for families impacted by Parkinson’s. \nOur fundraising goal for 2021 was $275\,000 and\, to date\, the commUNITY rallied and donated close to $290\,000 to help us increase our investments in research and quality of life programs and services which our community and region have come to depend. \nTo check out photos of the day\, click here!  \n  \n  \n \n 
URL:https://theparkinsoncouncil.org/event/2021-walk-to-stamp-out-parkinsons/
LOCATION:Phildadelphia Zoo\, 3400 West Girard Avenue\, Philadelphia\, PA\, 19104\, United States
CATEGORIES:Special Event
ATTACH;FMTTYPE=image/jpeg:https://theparkinsoncouncil.org/wp-content/uploads/2019/06/Community-2021-T-Shirt-scaled.jpg
END:VEVENT
END:VCALENDAR