BEGIN:VCALENDAR
VERSION:2.0
PRODID:-//The Parkinson Council - ECPv6.15.20//NONSGML v1.0//EN
CALSCALE:GREGORIAN
METHOD:PUBLISH
X-WR-CALNAME:The Parkinson Council
X-ORIGINAL-URL:https://theparkinsoncouncil.org
X-WR-CALDESC:Events for The Parkinson Council
REFRESH-INTERVAL;VALUE=DURATION:PT1H
X-Robots-Tag:noindex
X-PUBLISHED-TTL:PT1H
BEGIN:VTIMEZONE
TZID:America/New_York
BEGIN:DAYLIGHT
TZOFFSETFROM:-0500
TZOFFSETTO:-0400
TZNAME:EDT
DTSTART:20190310T070000
END:DAYLIGHT
BEGIN:STANDARD
TZOFFSETFROM:-0400
TZOFFSETTO:-0500
TZNAME:EST
DTSTART:20191103T060000
END:STANDARD
BEGIN:DAYLIGHT
TZOFFSETFROM:-0500
TZOFFSETTO:-0400
TZNAME:EDT
DTSTART:20200308T070000
END:DAYLIGHT
BEGIN:STANDARD
TZOFFSETFROM:-0400
TZOFFSETTO:-0500
TZNAME:EST
DTSTART:20201101T060000
END:STANDARD
BEGIN:DAYLIGHT
TZOFFSETFROM:-0500
TZOFFSETTO:-0400
TZNAME:EDT
DTSTART:20210314T070000
END:DAYLIGHT
BEGIN:STANDARD
TZOFFSETFROM:-0400
TZOFFSETTO:-0500
TZNAME:EST
DTSTART:20211107T060000
END:STANDARD
END:VTIMEZONE
BEGIN:VEVENT
DTSTART;TZID=America/New_York:20201017T100000
DTEND;TZID=America/New_York:20201017T113000
DTSTAMP:20260425T105702
CREATED:20190627T192650Z
LAST-MODIFIED:20210729T214711Z
UID:6392-1602928800-1602934200@theparkinsoncouncil.org
SUMMARY:2020 Walk to Stamp Out Parkinson's Registration NOW OPEN!
DESCRIPTION:Together\, we can do virtually anything…\n\nCommunity is important now more than ever. To keep you\, your family and friends safe\, our 19th annual Walk to Stamp Out Parkinson’s will be celebrated a little differently. \nEven though we are gathering virtually\, it’s still a fantastic opportunity to support families living and thriving with Parkinson’s. The best thing about our virtual walk is that you can do it anywhere\, everywhere\, wherever you are…the possibilities are endless! Sign up\, create a team\, or donate. \nYou can also dedicate your walk efforts to a loved one or friend. And join us on the morning of October 17th for inspiration\, education\, and action! \nFOR INFO & TO REGISTER: https://events.theparkinsoncouncil.org/walk2020\nCHAMPION SPONSOR\n \nFOUNDATION PARTNER
URL:https://theparkinsoncouncil.org/event/2020_walk-to-stamp-out-parkinsons/
LOCATION:PA
CATEGORIES:Special Event
ATTACH;FMTTYPE=image/jpeg:https://theparkinsoncouncil.org/wp-content/uploads/2019/06/2020WALK_Facebook_360sq.jpg
END:VEVENT
BEGIN:VEVENT
DTSTART;TZID=America/New_York:20201023T211900
DTEND;TZID=America/New_York:20201023T211900
DTSTAMP:20260425T105702
CREATED:20200124T173144Z
LAST-MODIFIED:20210729T214711Z
UID:6132-1603487940-1603487940@theparkinsoncouncil.org
SUMMARY:The Parkinson Council's 2nd Annual Trivia Night is POSTPONED!
DESCRIPTION:In our efforts to keep you safe and promote a high-quality virtual event\, we are postponing our 2nd Annual Trivia Night. \nWe are looking for options to allow us to gather safely (in-person) in 2021 or virtually. Please stay tuned for updates on one of our favorite community-gathering events. \nThanks for your patience and your support. If you have any questions\, please reach out to us at 610.668.4292.
URL:https://theparkinsoncouncil.org/event/the-parkinson-councils-2nd-annual-trivia-night/
LOCATION:Virtual
CATEGORIES:Special Event
END:VEVENT
END:VCALENDAR